BEGIN:VCALENDAR
VERSION:2.0
PRODID:-//Department Of Education//f212c8d3-7048-4f34-ae83-850439b42e92
BEGIN:VTIMEZONE
TZID:Australia/Sydney
TZURL:http://tzurl.org/zoneinfo-outlook/Australia/Sydney
X-LIC-LOCATION:Australia/Sydney
BEGIN:STANDARD
TZOFFSETFROM:+1100
TZOFFSETTO:+1000
TZNAME:AEST
DTSTART:19700405T030000
RRULE:FREQ=YEARLY;BYMONTH=4;BYDAY=1SU
END:STANDARD
BEGIN:DAYLIGHT
TZOFFSETFROM:+1000
TZOFFSETTO:+1100
TZNAME:AEDT
DTSTART:19701004T020000
RRULE:FREQ=YEARLY;BYMONTH=10;BYDAY=1SU
END:DAYLIGHT
END:VTIMEZONE
CALSCALE:GREGORIAN
X-WR-TIMEZONE:Australia/Sydney
BEGIN:VEVENT
DTSTART;TZID=Australia/Sydney:20180704T093030
DTEND;TZID=Australia/Sydney:20180704T153000
DTSTAMP:20180704T000000Z
UID:9b5a6904-ecc2-4bcf-828f-c9a1922eb724
LOCATION:5 Kia Ora Lane, Timbumburi 
SUMMARY;LANGUAGE=en-us:Hockey Gala Day test
SEQUENCE:0
DESCRIPTION:The PSSA Hockey gala days will be held on Wednesday and Thursday of week 9. Students will compete all day in the knockout competeition with friendly games organised for the losing teams.  Good luck to our girls and boys teams!
END:VEVENT
TRANSP:TRANSPARENT
END:VCALENDAR
