BEGIN:VCALENDAR
VERSION:2.0
PRODID:-//Department Of Education//77a02713-eb5c-4a9c-aa51-d9cb52d0df44
BEGIN:VTIMEZONE
TZID:Australia/Sydney
TZURL:http://tzurl.org/zoneinfo-outlook/Australia/Sydney
X-LIC-LOCATION:Australia/Sydney
BEGIN:STANDARD
TZOFFSETFROM:+1100
TZOFFSETTO:+1000
TZNAME:AEST
DTSTART:19700405T030000
RRULE:FREQ=YEARLY;BYMONTH=4;BYDAY=1SU
END:STANDARD
BEGIN:DAYLIGHT
TZOFFSETFROM:+1000
TZOFFSETTO:+1100
TZNAME:AEDT
DTSTART:19701004T020000
RRULE:FREQ=YEARLY;BYMONTH=10;BYDAY=1SU
END:DAYLIGHT
END:VTIMEZONE
CALSCALE:GREGORIAN
X-WR-TIMEZONE:Australia/Sydney
BEGIN:VEVENT
DTSTART;VALUE=DATE:20180629
DTEND;VALUE=DATE:20180630
DTSTAMP:20180629T000000Z
UID:d00f36f6-3e12-406c-9d92-4e0abfb6f0fe
LOCATION:Queenstown, New Zealand
SUMMARY;LANGUAGE=en-us:Holidays
SEQUENCE:0
DESCRIPTION:Information for the school website
END:VEVENT
TRANSP:TRANSPARENT
END:VCALENDAR
