BEGIN:VCALENDAR
VERSION:2.0
PRODID:-//Department Of Education//eb8bd462-7906-4ced-a925-fc4857e94947
BEGIN:VTIMEZONE
TZID:Australia/Sydney
TZURL:http://tzurl.org/zoneinfo-outlook/Australia/Sydney
X-LIC-LOCATION:Australia/Sydney
BEGIN:STANDARD
TZOFFSETFROM:+1100
TZOFFSETTO:+1000
TZNAME:AEST
DTSTART:19700405T030000
RRULE:FREQ=YEARLY;BYMONTH=4;BYDAY=1SU
END:STANDARD
BEGIN:DAYLIGHT
TZOFFSETFROM:+1000
TZOFFSETTO:+1100
TZNAME:AEDT
DTSTART:19701004T020000
RRULE:FREQ=YEARLY;BYMONTH=10;BYDAY=1SU
END:DAYLIGHT
END:VTIMEZONE
CALSCALE:GREGORIAN
X-WR-TIMEZONE:Australia/Sydney
BEGIN:VEVENT
DTSTART;TZID=Australia/Sydney:20180613T090000
DTEND;TZID=Australia/Sydney:20180613T150000
DTSTAMP:20180613T090000Z
UID:669c5fef-e616-4acd-8831-52b02533bdf4
LOCATION:
SUMMARY;LANGUAGE=en-us:Boys Basketball
SEQUENCE:0
DESCRIPTION:
END:VEVENT
TRANSP:TRANSPARENT
END:VCALENDAR
