BEGIN:VCALENDAR
VERSION:2.0
PRODID:-//Department Of Education//b8548cf6-d749-48c3-a4c9-4c1d1a9d703b
BEGIN:VTIMEZONE
TZID:Australia/Sydney
TZURL:http://tzurl.org/zoneinfo-outlook/Australia/Sydney
X-LIC-LOCATION:Australia/Sydney
BEGIN:STANDARD
TZOFFSETFROM:+1100
TZOFFSETTO:+1000
TZNAME:AEST
DTSTART:19700405T030000
RRULE:FREQ=YEARLY;BYMONTH=4;BYDAY=1SU
END:STANDARD
BEGIN:DAYLIGHT
TZOFFSETFROM:+1000
TZOFFSETTO:+1100
TZNAME:AEDT
DTSTART:19701004T020000
RRULE:FREQ=YEARLY;BYMONTH=10;BYDAY=1SU
END:DAYLIGHT
END:VTIMEZONE
CALSCALE:GREGORIAN
X-WR-TIMEZONE:Australia/Sydney
BEGIN:VEVENT
DTSTART;TZID=Australia/Sydney:20180223T090000
DTEND;TZID=Australia/Sydney:20180223T150000
DTSTAMP:20180223T090000Z
UID:52004a24-c520-4e66-bb18-77073df01663
LOCATION:
SUMMARY;LANGUAGE=en-us:Tamworth Zone Swimming Carnival
SEQUENCE:0
DESCRIPTION:
END:VEVENT
TRANSP:TRANSPARENT
END:VCALENDAR
