BEGIN:VCALENDAR
VERSION:2.0
PRODID:-//Department Of Education//2baf9758-2fee-4270-af8e-573dcc801747
BEGIN:VTIMEZONE
TZID:Australia/Sydney
TZURL:http://tzurl.org/zoneinfo-outlook/Australia/Sydney
X-LIC-LOCATION:Australia/Sydney
BEGIN:STANDARD
TZOFFSETFROM:+1100
TZOFFSETTO:+1000
TZNAME:AEST
DTSTART:19700405T030000
RRULE:FREQ=YEARLY;BYMONTH=4;BYDAY=1SU
END:STANDARD
BEGIN:DAYLIGHT
TZOFFSETFROM:+1000
TZOFFSETTO:+1100
TZNAME:AEDT
DTSTART:19701004T020000
RRULE:FREQ=YEARLY;BYMONTH=10;BYDAY=1SU
END:DAYLIGHT
END:VTIMEZONE
CALSCALE:GREGORIAN
X-WR-TIMEZONE:Australia/Sydney
BEGIN:VEVENT
DTSTART;TZID=Australia/Sydney:20150501T093000
DTEND;TZID=Australia/Sydney:20150501T113000
DTSTAMP:20150501T093000Z
UID:5da6b255-9888-4ebd-84b2-182041e5642d
LOCATION:
SUMMARY;LANGUAGE=en-us:School Cross Country
SEQUENCE:0
DESCRIPTION:Our annual school cross country carnival to be held at school.
END:VEVENT
TRANSP:TRANSPARENT
END:VCALENDAR
