BEGIN:VCALENDAR
VERSION:2.0
PRODID:-//Department Of Education//0e4b84a3-8bf6-4209-b2dd-79b1e70596fb
BEGIN:VTIMEZONE
TZID:Australia/Sydney
TZURL:http://tzurl.org/zoneinfo-outlook/Australia/Sydney
X-LIC-LOCATION:Australia/Sydney
BEGIN:STANDARD
TZOFFSETFROM:+1100
TZOFFSETTO:+1000
TZNAME:AEST
DTSTART:19700405T030000
RRULE:FREQ=YEARLY;BYMONTH=4;BYDAY=1SU
END:STANDARD
BEGIN:DAYLIGHT
TZOFFSETFROM:+1000
TZOFFSETTO:+1100
TZNAME:AEDT
DTSTART:19701004T020000
RRULE:FREQ=YEARLY;BYMONTH=10;BYDAY=1SU
END:DAYLIGHT
END:VTIMEZONE
CALSCALE:GREGORIAN
X-WR-TIMEZONE:Australia/Sydney
BEGIN:VEVENT
DTSTART;VALUE=DATE:20150323
DTEND;VALUE=DATE:20150324
DTSTAMP:20150323T000000Z
UID:e16435fe-3f0f-40ae-9732-9a4feb4a30e0
LOCATION:
SUMMARY;LANGUAGE=en-us:Young Leaders' Day
SEQUENCE:0
DESCRIPTION:Sydney - School Captains and Vice Captains
END:VEVENT
TRANSP:TRANSPARENT
END:VCALENDAR
