BEGIN:VCALENDAR
VERSION:2.0
PRODID:-//Department Of Education//6f53c3d9-b894-4a4c-8be9-04412aee5c46
BEGIN:VTIMEZONE
TZID:Australia/Sydney
TZURL:http://tzurl.org/zoneinfo-outlook/Australia/Sydney
X-LIC-LOCATION:Australia/Sydney
BEGIN:STANDARD
TZOFFSETFROM:+1100
TZOFFSETTO:+1000
TZNAME:AEST
DTSTART:19700405T030000
RRULE:FREQ=YEARLY;BYMONTH=4;BYDAY=1SU
END:STANDARD
BEGIN:DAYLIGHT
TZOFFSETFROM:+1000
TZOFFSETTO:+1100
TZNAME:AEDT
DTSTART:19701004T020000
RRULE:FREQ=YEARLY;BYMONTH=10;BYDAY=1SU
END:DAYLIGHT
END:VTIMEZONE
CALSCALE:GREGORIAN
X-WR-TIMEZONE:Australia/Sydney
BEGIN:VEVENT
DTSTART;TZID=Australia/Sydney:20150313T093000
DTEND;TZID=Australia/Sydney:20150313T103000
DTSTAMP:20150313T093000Z
UID:b0ea76fd-9e00-4c94-8c7d-9f69dce4efd9
LOCATION:
SUMMARY;LANGUAGE=en-us:Responsible Pet Program
SEQUENCE:0
DESCRIPTION:Infants room
END:VEVENT
TRANSP:TRANSPARENT
END:VCALENDAR
