BEGIN:VCALENDAR
VERSION:2.0
PRODID:-//Department Of Education//19201550-9f4b-41ea-a294-46618cd4f8db
BEGIN:VTIMEZONE
TZID:Australia/Sydney
TZURL:http://tzurl.org/zoneinfo-outlook/Australia/Sydney
X-LIC-LOCATION:Australia/Sydney
BEGIN:STANDARD
TZOFFSETFROM:+1100
TZOFFSETTO:+1000
TZNAME:AEST
DTSTART:19700405T030000
RRULE:FREQ=YEARLY;BYMONTH=4;BYDAY=1SU
END:STANDARD
BEGIN:DAYLIGHT
TZOFFSETFROM:+1000
TZOFFSETTO:+1100
TZNAME:AEDT
DTSTART:19701004T020000
RRULE:FREQ=YEARLY;BYMONTH=10;BYDAY=1SU
END:DAYLIGHT
END:VTIMEZONE
CALSCALE:GREGORIAN
X-WR-TIMEZONE:Australia/Sydney
BEGIN:VEVENT
DTSTART;VALUE=DATE:20150303
DTEND;VALUE=DATE:20150304
DTSTAMP:20150303T000000Z
UID:20882075-769e-44c5-94e6-a6c7d0c69c56
LOCATION:
SUMMARY;LANGUAGE=en-us:Regional Swimming
SEQUENCE:0
DESCRIPTION:Information will go home to those who qualify
END:VEVENT
TRANSP:TRANSPARENT
END:VCALENDAR
