BEGIN:VCALENDAR
VERSION:2.0
PRODID:-//Department Of Education//862bde3e-998b-40b7-aa29-3f61e6800852
BEGIN:VTIMEZONE
TZID:Australia/Sydney
TZURL:http://tzurl.org/zoneinfo-outlook/Australia/Sydney
X-LIC-LOCATION:Australia/Sydney
BEGIN:STANDARD
TZOFFSETFROM:+1100
TZOFFSETTO:+1000
TZNAME:AEST
DTSTART:19700405T030000
RRULE:FREQ=YEARLY;BYMONTH=4;BYDAY=1SU
END:STANDARD
BEGIN:DAYLIGHT
TZOFFSETFROM:+1000
TZOFFSETTO:+1100
TZNAME:AEDT
DTSTART:19701004T020000
RRULE:FREQ=YEARLY;BYMONTH=10;BYDAY=1SU
END:DAYLIGHT
END:VTIMEZONE
CALSCALE:GREGORIAN
X-WR-TIMEZONE:Australia/Sydney
BEGIN:VEVENT
DTSTART;TZID=Australia/Sydney:20150216T180000
DTEND;TZID=Australia/Sydney:20150216T200000
DTSTAMP:20150216T180000Z
UID:b930c9b3-0745-472d-827a-1c573269281a
LOCATION:
SUMMARY;LANGUAGE=en-us:Welcome BBQ
SEQUENCE:0
DESCRIPTION:Our annual P&C welcome BBQ for all families to get together and welcome in the new school year.
END:VEVENT
TRANSP:TRANSPARENT
END:VCALENDAR
