BEGIN:VCALENDAR
VERSION:2.0
PRODID:-//Department Of Education//1f0e8ab1-5bb9-4ea4-8a51-d213dddfc586
BEGIN:VTIMEZONE
TZID:Australia/Sydney
TZURL:http://tzurl.org/zoneinfo-outlook/Australia/Sydney
X-LIC-LOCATION:Australia/Sydney
BEGIN:STANDARD
TZOFFSETFROM:+1100
TZOFFSETTO:+1000
TZNAME:AEST
DTSTART:19700405T030000
RRULE:FREQ=YEARLY;BYMONTH=4;BYDAY=1SU
END:STANDARD
BEGIN:DAYLIGHT
TZOFFSETFROM:+1000
TZOFFSETTO:+1100
TZNAME:AEDT
DTSTART:19701004T020000
RRULE:FREQ=YEARLY;BYMONTH=10;BYDAY=1SU
END:DAYLIGHT
END:VTIMEZONE
CALSCALE:GREGORIAN
X-WR-TIMEZONE:Australia/Sydney
BEGIN:VEVENT
DTSTART;TZID=Australia/Sydney:20150203T100000
DTEND;TZID=Australia/Sydney:20150203T123000
DTSTAMP:20150203T100000Z
UID:cc8668a2-d8c9-49e6-98c2-dca44e85123b
LOCATION:
SUMMARY;LANGUAGE=en-us:School Swimming Carnival
SEQUENCE:0
DESCRIPTION:Our swimming carnival for students in years 3 - 6 and those in year 2 who turn 8 this year.
END:VEVENT
TRANSP:TRANSPARENT
END:VCALENDAR
