BEGIN:VCALENDAR
VERSION:2.0
PRODID:-//Department Of Education//1919eb69-7dcf-4b60-ad8d-0679b06d571e
BEGIN:VTIMEZONE
TZID:Australia/Sydney
TZURL:http://tzurl.org/zoneinfo-outlook/Australia/Sydney
X-LIC-LOCATION:Australia/Sydney
BEGIN:STANDARD
TZOFFSETFROM:+1100
TZOFFSETTO:+1000
TZNAME:AEST
DTSTART:19700405T030000
RRULE:FREQ=YEARLY;BYMONTH=4;BYDAY=1SU
END:STANDARD
BEGIN:DAYLIGHT
TZOFFSETFROM:+1000
TZOFFSETTO:+1100
TZNAME:AEDT
DTSTART:19701004T020000
RRULE:FREQ=YEARLY;BYMONTH=10;BYDAY=1SU
END:DAYLIGHT
END:VTIMEZONE
CALSCALE:GREGORIAN
X-WR-TIMEZONE:Australia/Sydney
BEGIN:VEVENT
DTSTART;TZID=Australia/Sydney:20150213T090000
DTEND;TZID=Australia/Sydney:20150213T150000
DTSTAMP:20150213T090000Z
UID:540f35f5-849d-4823-9630-9a329ca7866f
LOCATION:
SUMMARY;LANGUAGE=en-us:Responsible Pet Program
SEQUENCE:0
DESCRIPTION:A visit from an expert in pet minding, who helps us to learn how to be responsible pet owners.
END:VEVENT
TRANSP:TRANSPARENT
END:VCALENDAR
