BEGIN:VCALENDAR
VERSION:2.0
PRODID:-//Department Of Education//bdc164b9-cbd8-48b4-9b00-efeef2224670
BEGIN:VTIMEZONE
TZID:Australia/Sydney
TZURL:http://tzurl.org/zoneinfo-outlook/Australia/Sydney
X-LIC-LOCATION:Australia/Sydney
BEGIN:STANDARD
TZOFFSETFROM:+1100
TZOFFSETTO:+1000
TZNAME:AEST
DTSTART:19700405T030000
RRULE:FREQ=YEARLY;BYMONTH=4;BYDAY=1SU
END:STANDARD
BEGIN:DAYLIGHT
TZOFFSETFROM:+1000
TZOFFSETTO:+1100
TZNAME:AEDT
DTSTART:19701004T020000
RRULE:FREQ=YEARLY;BYMONTH=10;BYDAY=1SU
END:DAYLIGHT
END:VTIMEZONE
CALSCALE:GREGORIAN
X-WR-TIMEZONE:Australia/Sydney
BEGIN:VEVENT
DTSTART;TZID=Australia/Sydney:20150209T193000
DTEND;TZID=Australia/Sydney:20150209T210000
DTSTAMP:20150209T193000Z
UID:8dd47904-1321-4744-918f-0ed057501af4
LOCATION:
SUMMARY;LANGUAGE=en-us:P&C Meeting
SEQUENCE:0
DESCRIPTION:Our first P&C meeting for 2015
END:VEVENT
TRANSP:TRANSPARENT
END:VCALENDAR
