BEGIN:VCALENDAR
VERSION:2.0
PRODID:-//Department Of Education//253ca437-8537-4198-942a-03468f611af2
BEGIN:VTIMEZONE
TZID:Australia/Sydney
TZURL:http://tzurl.org/zoneinfo-outlook/Australia/Sydney
X-LIC-LOCATION:Australia/Sydney
BEGIN:STANDARD
TZOFFSETFROM:+1100
TZOFFSETTO:+1000
TZNAME:AEST
DTSTART:19700405T030000
RRULE:FREQ=YEARLY;BYMONTH=4;BYDAY=1SU
END:STANDARD
BEGIN:DAYLIGHT
TZOFFSETFROM:+1000
TZOFFSETTO:+1100
TZNAME:AEDT
DTSTART:19701004T020000
RRULE:FREQ=YEARLY;BYMONTH=10;BYDAY=1SU
END:DAYLIGHT
END:VTIMEZONE
CALSCALE:GREGORIAN
X-WR-TIMEZONE:Australia/Sydney
BEGIN:VEVENT
DTSTART;TZID=Australia/Sydney:20150219T090000
DTEND;TZID=Australia/Sydney:20150219T150000
DTSTAMP:20150219T090000Z
UID:798c1d9e-d830-4a99-a403-c9912b37f96c
LOCATION:
SUMMARY;LANGUAGE=en-us:Fire Brigade Visit
SEQUENCE:0
DESCRIPTION:A visit from the Rural Fire Service
END:VEVENT
TRANSP:TRANSPARENT
END:VCALENDAR
