BEGIN:VCALENDAR
VERSION:2.0
PRODID:-//Department Of Education//83df88aa-5121-4836-a88f-8b6529091b22
BEGIN:VTIMEZONE
TZID:Australia/Sydney
TZURL:http://tzurl.org/zoneinfo-outlook/Australia/Sydney
X-LIC-LOCATION:Australia/Sydney
BEGIN:STANDARD
TZOFFSETFROM:+1100
TZOFFSETTO:+1000
TZNAME:AEST
DTSTART:19700405T030000
RRULE:FREQ=YEARLY;BYMONTH=4;BYDAY=1SU
END:STANDARD
BEGIN:DAYLIGHT
TZOFFSETFROM:+1000
TZOFFSETTO:+1100
TZNAME:AEDT
DTSTART:19701004T020000
RRULE:FREQ=YEARLY;BYMONTH=10;BYDAY=1SU
END:DAYLIGHT
END:VTIMEZONE
CALSCALE:GREGORIAN
X-WR-TIMEZONE:Australia/Sydney
BEGIN:VEVENT
DTSTART;VALUE=DATE:20150217
DTEND;VALUE=DATE:20150218
DTSTAMP:20150217T000000Z
UID:bcf06988-9530-4d17-b549-bc34a7f19ef1
LOCATION:
SUMMARY;LANGUAGE=en-us:Chees - Farrer MAHS
SEQUENCE:0
DESCRIPTION:Club house, Farrer. Notes to Mrs McAdam.
END:VEVENT
TRANSP:TRANSPARENT
END:VCALENDAR
