BEGIN:VCALENDAR
VERSION:2.0
PRODID:-//Department Of Education//e608d86e-713d-4820-ae4d-74916addb011
BEGIN:VTIMEZONE
TZID:Australia/Sydney
TZURL:http://tzurl.org/zoneinfo-outlook/Australia/Sydney
X-LIC-LOCATION:Australia/Sydney
BEGIN:STANDARD
TZOFFSETFROM:+1100
TZOFFSETTO:+1000
TZNAME:AEST
DTSTART:19700405T030000
RRULE:FREQ=YEARLY;BYMONTH=4;BYDAY=1SU
END:STANDARD
BEGIN:DAYLIGHT
TZOFFSETFROM:+1000
TZOFFSETTO:+1100
TZNAME:AEDT
DTSTART:19701004T020000
RRULE:FREQ=YEARLY;BYMONTH=10;BYDAY=1SU
END:DAYLIGHT
END:VTIMEZONE
CALSCALE:GREGORIAN
X-WR-TIMEZONE:Australia/Sydney
BEGIN:VEVENT
DTSTART;TZID=Australia/Sydney:20150212T093000
DTEND;TZID=Australia/Sydney:20150212T101500
DTSTAMP:20150212T093000Z
UID:5747b083-b50c-4efa-8ca5-54d1c3def4db
LOCATION:
SUMMARY;LANGUAGE=en-us:Captains Induction
SEQUENCE:0
DESCRIPTION:The leaders of the school are presented their badges. The ceremony begins at 9:30am.
END:VEVENT
TRANSP:TRANSPARENT
END:VCALENDAR
