BEGIN:VCALENDAR
VERSION:2.0
PRODID:-//Department Of Education//f87ac894-670a-4da7-9ad0-cff34573d474
BEGIN:VTIMEZONE
TZID:Australia/Sydney
TZURL:http://tzurl.org/zoneinfo-outlook/Australia/Sydney
X-LIC-LOCATION:Australia/Sydney
BEGIN:STANDARD
TZOFFSETFROM:+1100
TZOFFSETTO:+1000
TZNAME:AEST
DTSTART:19700405T030000
RRULE:FREQ=YEARLY;BYMONTH=4;BYDAY=1SU
END:STANDARD
BEGIN:DAYLIGHT
TZOFFSETFROM:+1000
TZOFFSETTO:+1100
TZNAME:AEDT
DTSTART:19701004T020000
RRULE:FREQ=YEARLY;BYMONTH=10;BYDAY=1SU
END:DAYLIGHT
END:VTIMEZONE
CALSCALE:GREGORIAN
X-WR-TIMEZONE:Australia/Sydney
BEGIN:VEVENT
DTSTART;TZID=Australia/Sydney:20151210T183000
DTEND;TZID=Australia/Sydney:20151210T203000
DTSTAMP:20151210T183000Z
UID:25ba3faf-93fc-4b6b-bea5-67591c17f9ac
LOCATION:
SUMMARY;LANGUAGE=en-us:Year 6 Farewell
SEQUENCE:0
DESCRIPTION:Level Up, Centrepoint. 6:30pm YEAR 6, PARENTS AND STAFF ONLY
END:VEVENT
TRANSP:TRANSPARENT
END:VCALENDAR
