BEGIN:VCALENDAR
VERSION:2.0
PRODID:-//Department Of Education//d1f97a95-baf9-4cbd-80fd-f2cc72ce447c
BEGIN:VTIMEZONE
TZID:Australia/Sydney
TZURL:http://tzurl.org/zoneinfo-outlook/Australia/Sydney
X-LIC-LOCATION:Australia/Sydney
BEGIN:STANDARD
TZOFFSETFROM:+1100
TZOFFSETTO:+1000
TZNAME:AEST
DTSTART:19700405T030000
RRULE:FREQ=YEARLY;BYMONTH=4;BYDAY=1SU
END:STANDARD
BEGIN:DAYLIGHT
TZOFFSETFROM:+1000
TZOFFSETTO:+1100
TZNAME:AEDT
DTSTART:19701004T020000
RRULE:FREQ=YEARLY;BYMONTH=10;BYDAY=1SU
END:DAYLIGHT
END:VTIMEZONE
CALSCALE:GREGORIAN
X-WR-TIMEZONE:Australia/Sydney
BEGIN:VEVENT
DTSTART;TZID=Australia/Sydney:20151214T111500
DTEND;TZID=Australia/Sydney:20151214T113500
DTSTAMP:20151214T111500Z
UID:d85d5bf2-eccf-41e0-a0c3-4a835baaf1c8
LOCATION:
SUMMARY;LANGUAGE=en-us:Volunteers Morning Tea
SEQUENCE:0
DESCRIPTION:In the hall, Timbumburi PS Morning tea supplied. Invitations will be sent out.
END:VEVENT
TRANSP:TRANSPARENT
END:VCALENDAR
