BEGIN:VCALENDAR
VERSION:2.0
PRODID:-//Department Of Education//b100163e-435a-43a1-9d90-f5200a08949c
BEGIN:VTIMEZONE
TZID:Australia/Sydney
TZURL:http://tzurl.org/zoneinfo-outlook/Australia/Sydney
X-LIC-LOCATION:Australia/Sydney
BEGIN:STANDARD
TZOFFSETFROM:+1100
TZOFFSETTO:+1000
TZNAME:AEST
DTSTART:19700405T030000
RRULE:FREQ=YEARLY;BYMONTH=4;BYDAY=1SU
END:STANDARD
BEGIN:DAYLIGHT
TZOFFSETFROM:+1000
TZOFFSETTO:+1100
TZNAME:AEDT
DTSTART:19701004T020000
RRULE:FREQ=YEARLY;BYMONTH=10;BYDAY=1SU
END:DAYLIGHT
END:VTIMEZONE
CALSCALE:GREGORIAN
X-WR-TIMEZONE:Australia/Sydney
BEGIN:VEVENT
DTSTART;TZID=Australia/Sydney:20151214T100000
DTEND;TZID=Australia/Sydney:20151214T110000
DTSTAMP:20151214T100000Z
UID:47795d17-88ba-47a6-906b-6c6799a73705
LOCATION:
SUMMARY;LANGUAGE=en-us:Scripture Assembly
SEQUENCE:0
DESCRIPTION:Under the COLA, all welcome. Organised by the SRE teachers Mrs Worrad and Mrs Long.
END:VEVENT
TRANSP:TRANSPARENT
END:VCALENDAR
