BEGIN:VCALENDAR
VERSION:2.0
PRODID:-//Department Of Education//7b21f5a2-97e8-4274-a50e-e1b12fb14029
BEGIN:VTIMEZONE
TZID:Australia/Sydney
TZURL:http://tzurl.org/zoneinfo-outlook/Australia/Sydney
X-LIC-LOCATION:Australia/Sydney
BEGIN:STANDARD
TZOFFSETFROM:+1100
TZOFFSETTO:+1000
TZNAME:AEST
DTSTART:19700405T030000
RRULE:FREQ=YEARLY;BYMONTH=4;BYDAY=1SU
END:STANDARD
BEGIN:DAYLIGHT
TZOFFSETFROM:+1000
TZOFFSETTO:+1100
TZNAME:AEDT
DTSTART:19701004T020000
RRULE:FREQ=YEARLY;BYMONTH=10;BYDAY=1SU
END:DAYLIGHT
END:VTIMEZONE
CALSCALE:GREGORIAN
X-WR-TIMEZONE:Australia/Sydney
BEGIN:VEVENT
DTSTART;VALUE=DATE:20151217
DTEND;VALUE=DATE:20151218
DTSTAMP:20151217T000000Z
UID:f6a1c95f-f6ad-43f4-8010-21cd34a08677
LOCATION:
SUMMARY;LANGUAGE=en-us:School Development Day- Staff
SEQUENCE:0
DESCRIPTION:All staff will be participating in two day's worth of professional development. Students will not be present.
END:VEVENT
TRANSP:TRANSPARENT
END:VCALENDAR
