BEGIN:VCALENDAR
VERSION:2.0
PRODID:-//Department Of Education//bcca88fd-c628-44d7-b8dd-ab061991b6f9
BEGIN:VTIMEZONE
TZID:Australia/Sydney
TZURL:http://tzurl.org/zoneinfo-outlook/Australia/Sydney
X-LIC-LOCATION:Australia/Sydney
BEGIN:STANDARD
TZOFFSETFROM:+1100
TZOFFSETTO:+1000
TZNAME:AEST
DTSTART:19700405T030000
RRULE:FREQ=YEARLY;BYMONTH=4;BYDAY=1SU
END:STANDARD
BEGIN:DAYLIGHT
TZOFFSETFROM:+1000
TZOFFSETTO:+1100
TZNAME:AEDT
DTSTART:19701004T020000
RRULE:FREQ=YEARLY;BYMONTH=10;BYDAY=1SU
END:DAYLIGHT
END:VTIMEZONE
CALSCALE:GREGORIAN
X-WR-TIMEZONE:Australia/Sydney
BEGIN:VEVENT
DTSTART;TZID=Australia/Sydney:20151216T093000
DTEND;TZID=Australia/Sydney:20151216T120000
DTSTAMP:20151216T093000Z
UID:6e909f53-2bad-43cd-9c60-5d498516f14c
LOCATION:
SUMMARY;LANGUAGE=en-us:Red Faces - Talent Show
SEQUENCE:0
DESCRIPTION:Come to a morning's worth of entertainment. Our guest judges will select from a wide range of acts to select the next T Factor star or stars.
END:VEVENT
TRANSP:TRANSPARENT
END:VCALENDAR
