BEGIN:VCALENDAR
VERSION:2.0
PRODID:-//Department Of Education//de0ed9b7-2805-44cf-aed3-62041f6f1ad0
BEGIN:VTIMEZONE
TZID:Australia/Sydney
TZURL:http://tzurl.org/zoneinfo-outlook/Australia/Sydney
X-LIC-LOCATION:Australia/Sydney
BEGIN:STANDARD
TZOFFSETFROM:+1100
TZOFFSETTO:+1000
TZNAME:AEST
DTSTART:19700405T030000
RRULE:FREQ=YEARLY;BYMONTH=4;BYDAY=1SU
END:STANDARD
BEGIN:DAYLIGHT
TZOFFSETFROM:+1000
TZOFFSETTO:+1100
TZNAME:AEDT
DTSTART:19701004T020000
RRULE:FREQ=YEARLY;BYMONTH=10;BYDAY=1SU
END:DAYLIGHT
END:VTIMEZONE
CALSCALE:GREGORIAN
X-WR-TIMEZONE:Australia/Sydney
BEGIN:VEVENT
DTSTART;TZID=Australia/Sydney:20151209T093000
DTEND;TZID=Australia/Sydney:20151209T113000
DTSTAMP:20151209T093000Z
UID:964aeca0-fb92-4522-ab47-b3cc20814d40
LOCATION:
SUMMARY;LANGUAGE=en-us:Presentation Day
SEQUENCE:0
DESCRIPTION:Please bring a plate to share for morning tea.
END:VEVENT
TRANSP:TRANSPARENT
END:VCALENDAR
