BEGIN:VCALENDAR
VERSION:2.0
PRODID:-//Department Of Education//6c88808e-1271-4bad-9d68-9c66d585fb0a
BEGIN:VTIMEZONE
TZID:Australia/Sydney
TZURL:http://tzurl.org/zoneinfo-outlook/Australia/Sydney
X-LIC-LOCATION:Australia/Sydney
BEGIN:STANDARD
TZOFFSETFROM:+1100
TZOFFSETTO:+1000
TZNAME:AEST
DTSTART:19700405T030000
RRULE:FREQ=YEARLY;BYMONTH=4;BYDAY=1SU
END:STANDARD
BEGIN:DAYLIGHT
TZOFFSETFROM:+1000
TZOFFSETTO:+1100
TZNAME:AEDT
DTSTART:19701004T020000
RRULE:FREQ=YEARLY;BYMONTH=10;BYDAY=1SU
END:DAYLIGHT
END:VTIMEZONE
CALSCALE:GREGORIAN
X-WR-TIMEZONE:Australia/Sydney
BEGIN:VEVENT
DTSTART;TZID=Australia/Sydney:20151214T193000
DTEND;TZID=Australia/Sydney:20151214T200000
DTSTAMP:20151214T193000Z
UID:49a7f1ae-cad4-4c79-93ed-75e42eac5aca
LOCATION:
SUMMARY;LANGUAGE=en-us:P&C AGM
SEQUENCE:0
DESCRIPTION:All welcome, meeting held in Mr McDonald's room.
END:VEVENT
TRANSP:TRANSPARENT
END:VCALENDAR
