BEGIN:VCALENDAR
VERSION:2.0
PRODID:-//Department Of Education//726bf771-c3a1-46fd-889f-8943751127ca
BEGIN:VTIMEZONE
TZID:Australia/Sydney
TZURL:http://tzurl.org/zoneinfo-outlook/Australia/Sydney
X-LIC-LOCATION:Australia/Sydney
BEGIN:STANDARD
TZOFFSETFROM:+1100
TZOFFSETTO:+1000
TZNAME:AEST
DTSTART:19700405T030000
RRULE:FREQ=YEARLY;BYMONTH=4;BYDAY=1SU
END:STANDARD
BEGIN:DAYLIGHT
TZOFFSETFROM:+1000
TZOFFSETTO:+1100
TZNAME:AEDT
DTSTART:19701004T020000
RRULE:FREQ=YEARLY;BYMONTH=10;BYDAY=1SU
END:DAYLIGHT
END:VTIMEZONE
CALSCALE:GREGORIAN
X-WR-TIMEZONE:Australia/Sydney
BEGIN:VEVENT
DTSTART;TZID=Australia/Sydney:20151215T093000
DTEND;TZID=Australia/Sydney:20151215T113000
DTSTAMP:20151215T093000Z
UID:32fef6aa-abf0-4a38-bf2f-ae0915b4b903
LOCATION:
SUMMARY;LANGUAGE=en-us:Christmas Craft - all classes
SEQUENCE:0
DESCRIPTION:Every room will have its own personal glitter tsunami happening. Enter at your own risk.
END:VEVENT
TRANSP:TRANSPARENT
END:VCALENDAR
