BEGIN:VCALENDAR
VERSION:2.0
PRODID:-//Department Of Education//2777dad0-3cbc-411f-82db-5f002256cfe4
BEGIN:VTIMEZONE
TZID:Australia/Sydney
TZURL:http://tzurl.org/zoneinfo-outlook/Australia/Sydney
X-LIC-LOCATION:Australia/Sydney
BEGIN:STANDARD
TZOFFSETFROM:+1100
TZOFFSETTO:+1000
TZNAME:AEST
DTSTART:19700405T030000
RRULE:FREQ=YEARLY;BYMONTH=4;BYDAY=1SU
END:STANDARD
BEGIN:DAYLIGHT
TZOFFSETFROM:+1000
TZOFFSETTO:+1100
TZNAME:AEDT
DTSTART:19701004T020000
RRULE:FREQ=YEARLY;BYMONTH=10;BYDAY=1SU
END:DAYLIGHT
END:VTIMEZONE
CALSCALE:GREGORIAN
X-WR-TIMEZONE:Australia/Sydney
BEGIN:VEVENT
DTSTART;TZID=Australia/Sydney:20151207T093000
DTEND;TZID=Australia/Sydney:20151207T101500
DTSTAMP:20151207T093000Z
UID:d48924e7-84c5-44a6-a5c9-ff3de585bcaf
LOCATION:
SUMMARY;LANGUAGE=en-us:Captains' Speeches
SEQUENCE:0
DESCRIPTION:Year 5 will be presenting their captains' speeches to the school. All welcome. Held in the Hall
END:VEVENT
TRANSP:TRANSPARENT
END:VCALENDAR
