BEGIN:VCALENDAR
VERSION:2.0
PRODID:-//Department Of Education//ed08342c-94b1-4a66-b1ad-0c0a214f392f
BEGIN:VTIMEZONE
TZID:Australia/Sydney
TZURL:http://tzurl.org/zoneinfo-outlook/Australia/Sydney
X-LIC-LOCATION:Australia/Sydney
BEGIN:STANDARD
TZOFFSETFROM:+1100
TZOFFSETTO:+1000
TZNAME:AEST
DTSTART:19700405T030000
RRULE:FREQ=YEARLY;BYMONTH=4;BYDAY=1SU
END:STANDARD
BEGIN:DAYLIGHT
TZOFFSETFROM:+1000
TZOFFSETTO:+1100
TZNAME:AEDT
DTSTART:19701004T020000
RRULE:FREQ=YEARLY;BYMONTH=10;BYDAY=1SU
END:DAYLIGHT
END:VTIMEZONE
CALSCALE:GREGORIAN
X-WR-TIMEZONE:Australia/Sydney
BEGIN:VEVENT
DTSTART;TZID=Australia/Sydney:20151109T123000
DTEND;TZID=Australia/Sydney:20151109T143000
DTSTAMP:20151109T123000Z
UID:b9180aaf-3ba8-40e5-b72e-b139462b0442
LOCATION:
SUMMARY;LANGUAGE=en-us:Swimming School
SEQUENCE:0
DESCRIPTION:Scully Pool - selected years only Please remember to pack swimming gear
END:VEVENT
TRANSP:TRANSPARENT
END:VCALENDAR
